BEGIN:VCALENDAR
VERSION:2.0
PRODID:icalendar-ruby
CALSCALE:GREGORIAN
BEGIN:VEVENT
DTSTAMP:20260419T174146Z
UID:a9bb224e-1047-4b9e-ae89-39441f598299
DTSTART:20250831T090000Z
DTEND:20250904T000000Z
DESCRIPTION:We are delighted to announce that the 17th edition of the Inter
 national Conference on X-ray Microscopy\, XRM 2026\, will take place from 
 August 31 to September 4\, 2026\, in Campinas\, state of São Paulo\, Braz
 il.Important dates3 November\, 2025 | Call for Abstract and WMI award open
 s 18 March\, 2026 | Abstract and WMI award closes 25 May\, 2026 | Early bi
 rd registration closes 10 July\, 2026 | Regular registration closes 30 Aug
 ust 2026 | Workshop and Welcome Reception 31 August – 4 September 2026 |
  XRM 2026 Conference
SUMMARY:XRM 2026 -17th edition of the International Conference on X-ray Mic
 roscopy
URL;VALUE=URI:https://pages.cnpem.br/xrm2026/
END:VEVENT
END:VCALENDAR
