BEGIN:VCALENDAR
VERSION:2.0
PRODID:icalendar-ruby
CALSCALE:GREGORIAN
BEGIN:VEVENT
DTSTAMP:20260422T043241Z
UID:31180519-6516-412a-b155-a6a5a58cbbae
DTSTART:20250728T090000Z
DTEND:20250731T000000Z
DESCRIPTION:The International Conference on Electronic Spectroscopy and St
 ructure (ICESS) is a series of conferences that bring together leading ex
 perts in the field of electronic structure and spectroscopy.  ICESS aims
  to foster collaboration\, present and discuss the latest advancements in 
 the field\, to provide a stimulating and convivial environment in world-cl
 ass venues\, and to provide a platform for young scientists to showcase t
 heir work.
SUMMARY:The International Conference on Electronic Spectroscopy and Struct
 ure (ICESS)-16
URL;VALUE=URI:https://icess-16.lbl.gov/
END:VEVENT
END:VCALENDAR
