BEGIN:VCALENDAR
VERSION:2.0
PRODID:icalendar-ruby
CALSCALE:GREGORIAN
BEGIN:VEVENT
DTSTAMP:20260421T040814Z
UID:9f26bf70-68d4-477e-8f82-a69117d7cfe8
DTSTART:20250601T090000Z
DTEND:20250701T000000Z
DESCRIPTION:An in-depth look at what rheological infrastructure is availabl
 e at MAX IV\, and our experience so far on what potential users need to ta
 ke care of applying and how to come prepared for a rheo-beamtime!
SUMMARY:Rheo-beamtime at MAX IV: Available Infrastructure\, how to apply\, 
 and how to prepare – LINXS event
URL;VALUE=URI:https://www.linxs.se/events/2025-05-22/rheo-beamtime-at-max-i
 v-linxs-event
END:VEVENT
END:VCALENDAR
