BEGIN:VCALENDAR
VERSION:2.0
PRODID:icalendar-ruby
CALSCALE:GREGORIAN
BEGIN:VEVENT
DTSTAMP:20260423T004628Z
UID:4d60f089-3965-44ce-9211-ab844bf7cc28
DTSTART:20250920T090000Z
DTEND:20250926T000000Z
DESCRIPTION:The 7th FELs OF EUROPE Workshop on FEL Photon Diagnostics\, Ins
 trumentation\, and Beamline Design will be held in Liverpool\, United Kin
 gdom\, at the Liverpool University Guild of Students. The dates are Tuesd
 ay 2nd September to Thursday 4th September 2025.\n\n\n\nPhotonDiag 2025 wi
 ll cover the following areas of photon delivery and measurement to science
  experiments on advanced\, accelerator-based photon sources:\n\n\n\n\nPhot
 on diagnostics – all techniques for measuring the spatial\, spectral and
  temporal properties of photon beams.  Includes diagnostics for science e
 xperiments\, temporal synchronisation\, and machine / beamline set-up and 
 optimisation.\n\n\n\nPhoton beamlines &amp\; optics – including beamline
  design\, performance simulation\, optics metrology\, and alignment techni
 ques.\n\n\n\nDetectors for all photon beam properties and all aspects of s
 cience experiments – including invasive and on-line measurements\, one- 
 and multi-dimensional detectors\, and measurements at high repetition rate
 s\,\n\n\n\nComputation techniques for beamlines and diagnostics – includ
 ing open-source software developments\, machine learning\, multi-parameter
  optimisation and data handling.
SUMMARY:PhotonDiag2025 – The 7th FELs OF EUROPE Workshop on FEL Photon Di
 agnostics\, Instrumentation\, and Beamline Design
URL;VALUE=URI:https://indico.stfc.ac.uk/event/1424/
END:VEVENT
END:VCALENDAR
