BEGIN:VCALENDAR
VERSION:2.0
PRODID:icalendar-ruby
CALSCALE:GREGORIAN
BEGIN:VEVENT
DTSTAMP:20260420T012836Z
UID:aa308f94-11d2-4b60-a666-fdb759a8825b
DTSTART:20220716T090000Z
DTEND:20220716T000000Z
DESCRIPTION:On 16th July\, from 8:00 to 09:15 am CEST\, scientists and reno
 wned experts from the PaN community\, and contributors in the PaNOSC and E
 xPaNDS projects\, will take part in the online panel session at ESOF 2022\
 , with the title Open Data for healthier societies: a virtuous cycle?. ESO
 F registrants are invited to join the online […]
SUMMARY:PaNOSC & ExPaNDS panel session @ESOF2022 – Open Data for healthie
 r societies: a virtuous cycle?
URL;VALUE=URI:https://www.panosc.eu/events/panosc-expands-panel-discussion-
 esof2022/
END:VEVENT
END:VCALENDAR
