BEGIN:VCALENDAR
VERSION:2.0
PRODID:icalendar-ruby
CALSCALE:GREGORIAN
BEGIN:VEVENT
DTSTAMP:20260422T231042Z
UID:768da854-2d14-467e-89b5-28e664574fd9
DTSTART:20250915T090000Z
DTEND:20250919T000000Z
DESCRIPTION:We are excited to announce the 13th International Conference on
  Mechanical Engineering Design of Synchrotron Radiation Equipment and Inst
 rumentation (MEDSI2025)\, set to take place in Lund\, Sweden. Hosted by MA
 X IV Laboratory\, the conference will run from September 15th to 19th\, 20
 25. A five-day program will feature a variety of invited and contributed t
 alks\, poster sessions\, and industrial exhibitions. We will cover key top
 ics such as storage rings\, beamlines\, optics\, end-station instrumentati
 on\, and advancements in technology areas like vacuum\, cryogenics\, and p
 recision mechanics. Registration for MEDSI2025 will open in early 2025.\n\
 n\n\nImportant dates\n\n\n\nEventDateSponsor registrations opensNovember 5
 th 2024Abstract submission opensJanuary 15th 2025Abstract submission deadl
 ineMay 2nd 2025Early bird registrations opensApril 2025Regular registratio
 n opensJune 2025Conference datesSeptember 15–19 2025
SUMMARY:MEDSI 2025 13th International Conference on Mechanical Engineering 
 Design of Synchrotron Radiation Equipment and Instrumentation (MEDSI) 2025
URL;VALUE=URI:https://registration.invajo.com/9a724f96-cf90-42d2-a22a-6d14a
 7bf173d?page=4b765fe1-0978-42b6-8e4c-ed094785b163
END:VEVENT
END:VCALENDAR
