BEGIN:VCALENDAR
VERSION:2.0
PRODID:icalendar-ruby
CALSCALE:GREGORIAN
BEGIN:VEVENT
DTSTAMP:20260422T121307Z
UID:12d7ea24-103b-436f-a05a-73cc81551799
DTSTART:20250618T140000Z
DTEND:20250618T150000Z
SUMMARY:Laserlab-Europe Talk: Glass drilling with femtosecond laser in GHz-
 burst mode
URL;VALUE=URI:https://laserlab-europe.eu/event/laserlab-europe-talk-glass-d
 rilling-with-femtosecond-laser-in-ghz-burst-mode/
END:VEVENT
END:VCALENDAR
