BEGIN:VCALENDAR
VERSION:2.0
PRODID:icalendar-ruby
CALSCALE:GREGORIAN
BEGIN:VEVENT
DTSTAMP:20260420T143555Z
UID:e0c32496-1aec-4d0b-9f1f-088ef417da12
DTSTART:20220916T100000Z
DTEND:20220916T133000Z
DESCRIPTION:eRImote is collaborating with the EOSC-Life and RItrainPlus pro
 jects on this Knowledge Exchange workshop focused on the Environmental Imp
 act of Remote Training\, organised by the ELIXIR-EMBL-EBI team. \nThis kno
 wledge exchange workshop will share expert insights and facilitate a serie
 s of group discussions on the environmental impact of events and training.
  Attendees will reflect on their events/ training/ educational programmes\
 , share their knowledge of where they and their organisations have the gre
 atest environmental impact\, and share ideas on how these can be overcome.
  \n*limited availability\, register to avoid disappointment* \nAudience: I
 ndividuals involved in running events and training and wanting to learn ab
 out how to make their practises greener. Individuals looking to implement 
 initiatives that incentivise green practises for training and events in th
 eir organisations. \nPlease register here [https://embl-org.zoom.us/meetin
 g/register/tJEuc-uvqDkpHt2o83Rm85d9287f9YkoJC9m]. For any questions\, plea
 se contact us here [link to johanna.bischof@eurobioimaging.eu]. \n  \nFul
 l schedule for the workshop coming soon
SUMMARY:eRImote Satellite Workshop: Green events - assessing and reducing t
 he environmental impact of your training
URL;VALUE=URI:https://leaps-initiative.eu/event/erimote-satellite-workshop-
 green-events-assessing-and-reducing-the-environmental-impact-of-your-train
 ing/
END:VEVENT
END:VCALENDAR
