BEGIN:VCALENDAR
VERSION:2.0
PRODID:icalendar-ruby
CALSCALE:GREGORIAN
BEGIN:VEVENT
DTSTAMP:20260421T060954Z
UID:f204c786-a96f-4eec-97b2-66735296e206
DTSTART:20250703T090012Z
DTEND:20250703T000015Z
SUMMARY:Bad Honnef Seminar 2025\, Bad Honnef\, Deutschland
URL;VALUE=URI:https://events.hifis.net/event/2076/
END:VEVENT
END:VCALENDAR
