BEGIN:VCALENDAR
VERSION:2.0
PRODID:icalendar-ruby
CALSCALE:GREGORIAN
BEGIN:VEVENT
DTSTAMP:20260420T144328Z
UID:7183fac9-4f3c-4658-ba18-c57f21cc5041
DTSTART:20221209T090000Z
DTEND:20221210T000000Z
DESCRIPTION:3pm London time\, online -- Speakers: Xinyao Liu (ICFO Institut
 e of Photonic Sciences): Atomic imaging of complex and chiral molecular st
 ructure with laser-induced electron diffraction and machine learning -- An
 tonia Freibert (University of Hamburg): Simulating time-resolved X-ray abs
 orption spectroscopy of pyrazine at the nitrogen K-edge with a full time-d
 omain approach -- Simon Brennecke (Leibniz University Hannover): The Coulo
 mb lense in strong-field ionization
SUMMARY:9 December 2022\, Atto Fridays: Mini symposium with on machine lear
 ning with a bit of X Rays\, online
URL;VALUE=URI:https://www.laserlab-europe.eu/events-1/conferences/conferenc
 e-calendar/9-december-2022-atto-fridays-mini-symposium-with-on-machine-lea
 rning-with-a-bit-of-x-rays-online
END:VEVENT
END:VCALENDAR
