BEGIN:VCALENDAR
VERSION:2.0
PRODID:icalendar-ruby
CALSCALE:GREGORIAN
BEGIN:VEVENT
DTSTAMP:20260422T142717Z
UID:03fa9c12-6dde-4f48-a9c9-b432da33b1e3
DTSTART:20231009T090000Z
DTEND:20231021T000000Z
SUMMARY:9-20 October 2023\, Cold Atoms Predoc School "Ultracold molecules: 
 Quantum physics and applications"\, Les Houches\, France
URL;VALUE=URI:https://www.laserlab-europe.eu/events/conferences/conference-
 calendar/9-20-october-2023-cold-atoms-predoc-school-ultracold-molecules-qu
 antum-physics-and-applications-les-houches-france
END:VEVENT
END:VCALENDAR
