BEGIN:VCALENDAR
VERSION:2.0
PRODID:icalendar-ruby
CALSCALE:GREGORIAN
BEGIN:VEVENT
DTSTAMP:20260422T083002Z
UID:42bbb640-612e-45f9-892f-1ec4e1524e71
DTSTART:20230709T090000Z
DTEND:20230715T000000Z
SUMMARY:9-14 July 2023\, 9th International Conference on Attosecond Science
  and Technology - ATTO\, Jeju Island\, Korea
URL;VALUE=URI:https://www.laserlab-europe.eu/events-1/conferences/conferenc
 e-calendar/9-14-july-2023-9th-international-conference-on-attosecond-scien
 ce-and-technology-atto-jeju-island-korea
END:VEVENT
END:VCALENDAR
