BEGIN:VCALENDAR
VERSION:2.0
PRODID:icalendar-ruby
CALSCALE:GREGORIAN
BEGIN:VEVENT
DTSTAMP:20260421T081404Z
UID:0ed014b2-85cf-4e44-bd04-6a467cfb9624
DTSTART:20230709T090000Z
DTEND:20230715T000000Z
SUMMARY:9-14 July 2023\, 28th Dynamics of Molecular Collisions meeting\, Sn
 owbird\, Utah\, USA
URL;VALUE=URI:https://www.laserlab-europe.eu/events-1/conferences/conferenc
 e-calendar/9-14-july-2023-28th-dynamics-of-molecular-collisions-meeting-sn
 owbird-utah-usa
END:VEVENT
END:VCALENDAR
