BEGIN:VCALENDAR
VERSION:2.0
PRODID:icalendar-ruby
CALSCALE:GREGORIAN
BEGIN:VEVENT
DTSTAMP:20260422T121221Z
UID:88cd498a-7cfd-45ce-af2e-ec3d0aa0ff7f
DTSTART:20240909T090000Z
DTEND:20240914T000000Z
SUMMARY:9-13 September 2024\, International Conference on Ultrahigh Intensi
 ty Lasers (ICUIL 2024)\, Cozumel\, Mexico
URL;VALUE=URI:https://www.laserlab-europe.eu/events/conferences/conference-
 calendar/9-13-september-2024-international-conference-on-ultrahigh-intensi
 ty-lasers-icuil-2024-cozumel-mexico
END:VEVENT
END:VCALENDAR
