BEGIN:VCALENDAR
VERSION:2.0
PRODID:icalendar-ruby
CALSCALE:GREGORIAN
BEGIN:VEVENT
DTSTAMP:20260422T002334Z
UID:8ae2e36d-88c1-4f85-9ab4-bc9d4368a29e
DTSTART:20240909T090000Z
DTEND:20240914T000000Z
SUMMARY:9-13 September 2024\, European Optical Society Annual Meeting - EOS
 AM\, Naples\, Italy
URL;VALUE=URI:https://www.laserlab-europe.eu/events/conferences/conference-
 calendar/9-13-september-2024-european-optical-society-annual-meeting-eosam
 -naples-italy
END:VEVENT
END:VCALENDAR
