BEGIN:VCALENDAR
VERSION:2.0
PRODID:icalendar-ruby
CALSCALE:GREGORIAN
BEGIN:VEVENT
DTSTAMP:20260422T093207Z
UID:ff47ae97-2c19-434f-8b8d-639bfd0dabc4
DTSTART:20240709T090000Z
DTEND:20240713T000000Z
SUMMARY:9-12 July 2024\, International Meeting on Atomic and Molecular Phys
 ics and Chemistry\, Warsaw\, Poland
URL;VALUE=URI:https://www.laserlab-europe.eu/events/conferences/conference-
 calendar/9-12-july-2024-international-meeting-on-atomic-and-molecular-phys
 ics-and-chemistry-warsaw-poland
END:VEVENT
END:VCALENDAR
