BEGIN:VCALENDAR
VERSION:2.0
PRODID:icalendar-ruby
CALSCALE:GREGORIAN
BEGIN:VEVENT
DTSTAMP:20260422T215551Z
UID:aab494f5-8f16-48a6-9b74-c138735c4925
DTSTART:20240409T090000Z
DTEND:20240413T000000Z
SUMMARY:9-12 April 2024\, Final General Meeting of the Molecular-Dynamic in
  the GAS phase (MD-GAS) COST Action 2024\, Hamburg\, Germany
URL;VALUE=URI:https://www.laserlab-europe.eu/events/conferences/conference-
 calendar/9-12-april-2024-final-general-meeting-of-the-molecular-dynamic-in
 -the-gas-phase-md-gas-cost-action-2024-hamburg-germany
END:VEVENT
END:VCALENDAR
