BEGIN:VCALENDAR
VERSION:2.0
PRODID:icalendar-ruby
CALSCALE:GREGORIAN
BEGIN:VEVENT
DTSTAMP:20260420T125730Z
UID:a9a82814-25bd-4ed5-a1bb-a799e12cb7da
DTSTART:20241009T090000Z
DTEND:20241012T000000Z
SUMMARY:9-11 October 2024\, International Semiconductor Conference - CAS 20
 24\, Sinaia\, Romania
URL;VALUE=URI:https://www.laserlab-europe.eu/events/conferences/conference-
 calendar/9-11-october-2024-international-semiconductor-conference-cas-2024
 -sinaia-romania
END:VEVENT
END:VCALENDAR
