BEGIN:VCALENDAR
VERSION:2.0
PRODID:icalendar-ruby
CALSCALE:GREGORIAN
BEGIN:VEVENT
DTSTAMP:20260421T041737Z
UID:521f95e7-0a54-4861-8421-2e327b26dea5
DTSTART:20220309T090000Z
DTEND:20220312T000000Z
SUMMARY:9-11 March 2022\, Smilei user & training workshop\, CEA Saclay\, Gi
 f-sur-Yvette\, France
URL;VALUE=URI:https://www.laserlab-europe.eu/events-1/conferences/conferenc
 e-calendar/9-11-march-2022-smilei-user-training-workshop-cea-saclay-gif-su
 r-yvette-france
END:VEVENT
END:VCALENDAR
