BEGIN:VCALENDAR
VERSION:2.0
PRODID:icalendar-ruby
CALSCALE:GREGORIAN
BEGIN:VEVENT
DTSTAMP:20260419T161310Z
UID:760ce5ee-3a78-44b8-bf6d-25e8fa3cff7b
DTSTART:20220709T090000Z
DTEND:20220711T000000Z
SUMMARY:9-10 July 2022\, Gordon Research Seminar on Molecular Interactions 
 and Dynamics\, Easton\, MA\, USA
URL;VALUE=URI:https://www.laserlab-europe.eu/events-1/conferences/conferenc
 e-calendar/9-10-july-2022-gordon-research-seminar-on-molecular-interaction
 s-and-dynamics-easton-ma-usa
END:VEVENT
END:VCALENDAR
