BEGIN:VCALENDAR
VERSION:2.0
PRODID:icalendar-ruby
CALSCALE:GREGORIAN
BEGIN:VEVENT
DTSTAMP:20260422T235550Z
UID:73dbd5a2-b4ad-42ee-92af-9bf1e5a740a7
DTSTART:20240308T090000Z
DTEND:20240309T000000Z
DESCRIPTION:Atto Fridays seminar series - 3pm London time\, online -- speak
 er: Professor Linda Young (Argonne National Laboratory/UChicago)
SUMMARY:8 March 2024\, Atto Fridays seminar series: Attosecond x-ray studie
 s of liquid water\, online
URL;VALUE=URI:https://www.laserlab-europe.eu/events/conferences/conference-
 calendar/8-march-2024-atto-fridays-seminar-series-attosecond-x-ray-studies
 -of-liquid-water-online
END:VEVENT
END:VCALENDAR
