BEGIN:VCALENDAR
VERSION:2.0
PRODID:icalendar-ruby
CALSCALE:GREGORIAN
BEGIN:VEVENT
DTSTAMP:20260422T191658Z
UID:ca2e04dd-9d42-4da5-958e-1cda68283fc7
DTSTART:20231208T090000Z
DTEND:20231209T000000Z
DESCRIPTION:Speaker: Professor Prof. Sivarama Krishnan (Indian Institute of
  Technology Madras\, Chennai\, India) -- 3pm London time -- online
SUMMARY:8 December 2023\, Atto Fridays: Photoexcited superfluid He nanodrop
 lets - a versatile playground for atto- and femto-second dynamics\, online
URL;VALUE=URI:https://www.laserlab-europe.eu/events/conferences/conference-
 calendar/8-december-2023-atto-fridays-photoexcited-superfluid-he-nanodropl
 ets-a-versatile-playground-for-atto-and-femto-second-dynamics-online
END:VEVENT
END:VCALENDAR
