BEGIN:VCALENDAR
VERSION:2.0
PRODID:icalendar-ruby
CALSCALE:GREGORIAN
BEGIN:VEVENT
DTSTAMP:20260420T025950Z
UID:69cc27ac-8a08-454f-84a3-b05d23eaad31
DTSTART:20220808T090000Z
DTEND:20220820T000000Z
SUMMARY:8-19 August 2022\, Jyväskylä Summer School\, Jyväskylä\, Finlan
 d
URL;VALUE=URI:https://www.laserlab-europe.eu/events-1/conferences/conferenc
 e-calendar/8-19-august-2022-jyvaskyla-summer-school-jyvaskyla-finland
END:VEVENT
END:VCALENDAR
