BEGIN:VCALENDAR
VERSION:2.0
PRODID:icalendar-ruby
CALSCALE:GREGORIAN
BEGIN:VEVENT
DTSTAMP:20260420T043543Z
UID:255d94fc-3e0a-47a4-adee-792fdb7c8da0
DTSTART:20240708T090000Z
DTEND:20240713T000000Z
DESCRIPTION:An international network for Non-linear Extreme Ultraviolet to 
 hard X-ray techniques (NEXT)
SUMMARY:8-12 July 2024\, WavemiX 2024 workshop - COST Action NEXT Annual Me
 eting\, Madrid\, Spain
URL;VALUE=URI:https://www.laserlab-europe.eu/events/conferences/conference-
 calendar/8-12-july-2024-wavemix-2024-workshop-cost-action-next-annual-meet
 ing-madrid-spain
END:VEVENT
END:VCALENDAR
