BEGIN:VCALENDAR
VERSION:2.0
PRODID:icalendar-ruby
CALSCALE:GREGORIAN
BEGIN:VEVENT
DTSTAMP:20260422T100747Z
UID:ec3d3174-df4c-416c-bcc7-6047ecb5721d
DTSTART:20240708T090000Z
DTEND:20240713T000000Z
SUMMARY:8-12 July 2024\, Photonics talents international summer school\, Bo
 rdeaux\, France
URL;VALUE=URI:https://www.laserlab-europe.eu/events/conferences/conference-
 calendar/8-12-july-2024-photonics-talents-international-summer-school-bord
 eaux-france
END:VEVENT
END:VCALENDAR
