BEGIN:VCALENDAR
VERSION:2.0
PRODID:icalendar-ruby
CALSCALE:GREGORIAN
BEGIN:VEVENT
DTSTAMP:20260422T193802Z
UID:0a1a3229-d476-44d2-9bc3-303a7a8ed7a1
DTSTART:20240708T090000Z
DTEND:20240713T000000Z
SUMMARY:8-12 July 2024\, 22nd International Conference on Photoacoustic and
  Photothermal Phenomena\, Coimbra\, Portugal
URL;VALUE=URI:https://www.laserlab-europe.eu/events/conferences/conference-
 calendar/8-12-july-2024-22nd-international-conference-on-photoacoustic-and
 -photothermal-phenomena-coimbra-portugal
END:VEVENT
END:VCALENDAR
