BEGIN:VCALENDAR
VERSION:2.0
PRODID:icalendar-ruby
CALSCALE:GREGORIAN
BEGIN:VEVENT
DTSTAMP:20260422T123100Z
UID:52e97045-c535-46e9-b275-e79adbdbe3b8
DTSTART:20240408T090000Z
DTEND:20240413T000000Z
SUMMARY:8-12 April 2024\, Fluctuations in soft matter: theory meets experim
 ent at large-scale research infrastructures\, Stockholm\, Sweden
URL;VALUE=URI:https://www.laserlab-europe.eu/events/conferences/conference-
 calendar/8-12-april-2024-fluctuations-in-soft-matter-theory-meets-experime
 nt-at-large-scale-research-infrastructures-stockholm-sweden
END:VEVENT
END:VCALENDAR
