BEGIN:VCALENDAR
VERSION:2.0
PRODID:icalendar-ruby
CALSCALE:GREGORIAN
BEGIN:VEVENT
DTSTAMP:20260422T195447Z
UID:0f05f82e-26d9-467f-95bb-3fd93d7ab0ad
DTSTART:20240508T090000Z
DTEND:20240511T000000Z
SUMMARY:8-10 May 2024\, Faraday Discussion on ‘New Directions in Molecula
 r Scattering’\, Edinburgh\, UK
URL;VALUE=URI:https://www.laserlab-europe.eu/events/conferences/conference-
 calendar/8-10-may-2024-faraday-discussion-on-2018new-directions-in-molecul
 ar-scattering2019-edinburgh-uk
END:VEVENT
END:VCALENDAR
