BEGIN:VCALENDAR
VERSION:2.0
PRODID:icalendar-ruby
CALSCALE:GREGORIAN
BEGIN:VEVENT
DTSTAMP:20260422T123101Z
UID:56834729-5b05-4d79-9487-309326fa29f2
DTSTART:20220608T090000Z
DTEND:20220611T000000Z
SUMMARY:8-10 June 2022\, Nordic Femtochemistry 2022\, Jyväskylä\, Finland
URL;VALUE=URI:https://www.laserlab-europe.eu/events-1/conferences/conferenc
 e-calendar/8-10-june-2022-nordic-femtochemistry-jyvaskyla-finland
END:VEVENT
END:VCALENDAR
