BEGIN:VCALENDAR
VERSION:2.0
PRODID:icalendar-ruby
CALSCALE:GREGORIAN
BEGIN:VEVENT
DTSTAMP:20260423T001552Z
UID:aecf865b-ce3b-48bc-969a-075dfa99ef02
DTSTART:20240708T090000Z
DTEND:20240711T000000Z
DESCRIPTION:8th to the 10th of July 2024 from 11:00 to 13:00\, in Physics A
 1/A3\, University College London\, UK
SUMMARY:8-10 July 2024\, Crash course - symmetries and selection rules of p
 hotoelectron and high-order-harmonic spectra induced by tailored laser fie
 lds\, London\, UK
URL;VALUE=URI:https://www.laserlab-europe.eu/events/conferences/conference-
 calendar/8-10-july-2024-crash-course-symmetries-and-selection-rules-of-pho
 toelectron-and-high-order-harmonic-spectra-induced-by-tailored-laser-field
 s-london-uk
END:VEVENT
END:VCALENDAR
