BEGIN:VCALENDAR
VERSION:2.0
PRODID:icalendar-ruby
CALSCALE:GREGORIAN
BEGIN:VEVENT
DTSTAMP:20260421T154544Z
UID:d1c3ad32-bf6e-405b-b8a9-15d8905579f0
DTSTART:20250108T090000Z
DTEND:20250111T000000Z
SUMMARY:8-10 January 2025\, Workshop "Extreme ultraviolet time-resolved pho
 toelectron spectroscopy - toward the ultimate probe of molecular dynamics"
 \, Freiburg\, Germany
URL;VALUE=URI:https://www.laserlab-europe.eu/events/conferences/conference-
 calendar/8-10-january-2025-workshop-extreme-ultraviolet-time-resolved-phot
 oelectron-spectroscopy-toward-the-ultimate-probe-of-molecular-dynamics-fre
 iburg-germany
END:VEVENT
END:VCALENDAR
