BEGIN:VCALENDAR
VERSION:2.0
PRODID:icalendar-ruby
CALSCALE:GREGORIAN
BEGIN:VEVENT
DTSTAMP:20260420T093309Z
UID:9f4334a0-6177-481f-babf-c8be0b95c595
DTSTART:20241007T090000Z
DTEND:20241008T000000Z
DESCRIPTION:7 October 2024 at 17:00 CEST - Speaker: James Cryan (SLAC Natio
 nal Accelerator Laboratory)
SUMMARY:7 October 2024\, FELs of Europe tutorial "Attosecond spectroscopy a
 t LCLS"\, online
URL;VALUE=URI:https://www.laserlab-europe.eu/events/conferences/conference-
 calendar/7-october-2024-fels-of-europe-tutorial-attosecond-spectroscopy-at
 -lcls-online
END:VEVENT
END:VCALENDAR
