BEGIN:VCALENDAR
VERSION:2.0
PRODID:icalendar-ruby
CALSCALE:GREGORIAN
BEGIN:VEVENT
DTSTAMP:20260422T125454Z
UID:36bd574d-f248-42fc-bde0-382b0e12a55c
DTSTART:20221107T090000Z
DTEND:20221108T000000Z
DESCRIPTION:The next focus tutorial of the Fels of Europe tutorial series w
 ill take place on 7 November 2022 at 17:00 CET. Speaker: Markus Gühr (DES
 Y)
SUMMARY:7 November 2022\, FELs of Europe tutorial on Probing ultrafast mole
 cular photoenergy conversion with soft x-ray FELs
URL;VALUE=URI:https://www.laserlab-europe.eu/events-1/conferences/conferenc
 e-calendar/7-november-2022-fels-of-europe-tutorial-on-probing-ultrafast-mo
 lecular-photoenergy-conversion-with-soft-x-ray-fels
END:VEVENT
END:VCALENDAR
