BEGIN:VCALENDAR
VERSION:2.0
PRODID:icalendar-ruby
CALSCALE:GREGORIAN
BEGIN:VEVENT
DTSTAMP:20260421T034126Z
UID:aad4ba07-e2dc-48d2-8cf8-018cb1857544
DTSTART:20241107T090000Z
DTEND:20241109T000000Z
SUMMARY:7-8 November 2024\, Laboratory Equipment Monitoring Hackathon\, Lon
 don\, UK
URL;VALUE=URI:https://www.laserlab-europe.eu/events/conferences/conference-
 calendar/7-8-november-2024-laboratory-equipment-monitoring-hackathon-londo
 n-uk
END:VEVENT
END:VCALENDAR
