BEGIN:VCALENDAR
VERSION:2.0
PRODID:icalendar-ruby
CALSCALE:GREGORIAN
BEGIN:VEVENT
DTSTAMP:20260421T184025Z
UID:679182dc-2a7a-41db-9466-9761854348f0
DTSTART:20230807T090000Z
DTEND:20230819T000000Z
SUMMARY:7-18 August 2023\, Summer School NANO2: Spectroscopy in Nanoscale\,
  Jyväskylä\, Finland
URL;VALUE=URI:https://www.laserlab-europe.eu/events-1/conferences/conferenc
 e-calendar/summer-school-spectroscopy-jyvaskyla-finland
END:VEVENT
END:VCALENDAR
