BEGIN:VCALENDAR
VERSION:2.0
PRODID:icalendar-ruby
CALSCALE:GREGORIAN
BEGIN:VEVENT
DTSTAMP:20260422T203841Z
UID:9d732720-1412-47b5-b31c-033b76e57b4d
DTSTART:20240707T090000Z
DTEND:20240713T000000Z
SUMMARY:7-12 July 2024\, Early Career Conference in Trapped Ions (ECCTI)\, 
 Innsbruck\, Austria
URL;VALUE=URI:https://www.laserlab-europe.eu/events/conferences/conference-
 calendar/7-12-july-2024-early-career-conference-in-trapped-ions-eccti-inns
 bruck-austria
END:VEVENT
END:VCALENDAR
