BEGIN:VCALENDAR
VERSION:2.0
PRODID:icalendar-ruby
CALSCALE:GREGORIAN
BEGIN:VEVENT
DTSTAMP:20260422T012554Z
UID:29fffd6a-1947-448a-bea5-cbfb702c8b8c
DTSTART:20241007T090000Z
DTEND:20241012T000000Z
SUMMARY:7-11 October 2024\, THRILL Summer School on laser technology for hi
 gh-energy lasers\, Hyères\, France
URL;VALUE=URI:https://www.laserlab-europe.eu/events/conferences/conference-
 calendar/7-11-october-2024-thrill-summer-school-on-laser-technology-for-hi
 gh-energy-lasers-hyeres-france
END:VEVENT
END:VCALENDAR
