BEGIN:VCALENDAR
VERSION:2.0
PRODID:icalendar-ruby
CALSCALE:GREGORIAN
BEGIN:VEVENT
DTSTAMP:20260422T172844Z
UID:f21806ef-2ea4-452d-891d-384a902dbf18
DTSTART:20221107T090000Z
DTEND:20221112T000000Z
LOCATION:e/ 23 y 25\, Calle L
SUMMARY:7-11 November 2022\, XI International Meeting of Photodynamics\, Ha
 vana\, Cuba
URL;VALUE=URI:https://www.laserlab-europe.eu/events-1/conferences/conferenc
 e-calendar/7-11-november-2022-xi-international-meeting-of-photodynamics-ha
 vana-cuba
END:VEVENT
END:VCALENDAR
