BEGIN:VCALENDAR
VERSION:2.0
PRODID:icalendar-ruby
CALSCALE:GREGORIAN
BEGIN:VEVENT
DTSTAMP:20260419T233627Z
UID:c8cf26fd-92c3-434e-bb59-150907037319
DTSTART:20220807T090000Z
DTEND:20220812T000000Z
SUMMARY:7-11 August 2022\, Latin America Optics and Photonics Conference - 
 LAOP\, Pernambuco \, Brazil
URL;VALUE=URI:https://www.laserlab-europe.eu/events-1/conferences/conferenc
 e-calendar/7-11-august-2022-latin-america-optics-and-photonics-conference-
 laop-pernambuco-brazil
END:VEVENT
END:VCALENDAR
