BEGIN:VCALENDAR
VERSION:2.0
PRODID:icalendar-ruby
CALSCALE:GREGORIAN
BEGIN:VEVENT
DTSTAMP:20260422T201236Z
UID:4cb0cdba-9a25-4e5f-9faf-3f4d6946f2c0
DTSTART:20240407T090000Z
DTEND:20240412T000000Z
SUMMARY:7-11 April 2024\, SPIE Photonics Europe\, Strasbourg\, France
URL;VALUE=URI:https://www.laserlab-europe.eu/events/conferences/conference-
 calendar/7-11-april-2024-spie-photonics-europe-strasbourg-france
END:VEVENT
END:VCALENDAR
