BEGIN:VCALENDAR
VERSION:2.0
PRODID:icalendar-ruby
CALSCALE:GREGORIAN
BEGIN:VEVENT
DTSTAMP:20260421T065835Z
UID:244e640d-0608-4a57-aa80-3cf37d848238
DTSTART:20220607T090000Z
DTEND:20220611T000000Z
SUMMARY:7-10 June 2022\, International Conference on Molecular Ultrafast Sc
 ience and Technology (MUST2022)\, Grindelwald\, Switzerland
URL;VALUE=URI:https://www.laserlab-europe.eu/events-1/conferences/conferenc
 e-calendar/7-10-june-2022-conference-on-molecular-ultrafast-science-and-te
 chnology-must2022-grindelwald-switzerland
END:VEVENT
END:VCALENDAR
