BEGIN:VCALENDAR
VERSION:2.0
PRODID:icalendar-ruby
CALSCALE:GREGORIAN
BEGIN:VEVENT
DTSTAMP:20260422T182223Z
UID:b72653a8-63f8-42ad-9d47-e71f142f4bd7
DTSTART:20240407T090000Z
DTEND:20240411T000000Z
SUMMARY:7-10 April 2024\, BioMed 2024 congress\, Fort Lauderdale\, Florida\
 , USA
URL;VALUE=URI:https://www.laserlab-europe.eu/events/conferences/conference-
 calendar/7-10-april-2024-biomed-2024-congress-fort-lauderdale-florida-usa
END:VEVENT
END:VCALENDAR
