BEGIN:VCALENDAR
VERSION:2.0
PRODID:icalendar-ruby
CALSCALE:GREGORIAN
BEGIN:VEVENT
DTSTAMP:20260422T195430Z
UID:158ba859-15b4-41b2-9b8e-44888c90430f
DTSTART:20220506T140000Z
DTEND:20220506T150000Z
DESCRIPTION:3pm London Time
SUMMARY:6 May 2022\, Atto Fridays - Laura Cattaneo - Liquid crystals meet T
 Hz spectroscopy and more...\, online
URL;VALUE=URI:https://www.laserlab-europe.eu/events-1/conferences/conferenc
 e-calendar/6-may-2022-atto-fridays-laura-cattaneo-liquid-crystals-meet-thz
 -spectroscopy-and-more-online
END:VEVENT
END:VCALENDAR
