BEGIN:VCALENDAR
VERSION:2.0
PRODID:icalendar-ruby
CALSCALE:GREGORIAN
BEGIN:VEVENT
DTSTAMP:20260423T022039Z
UID:a8d60459-e355-4520-baf9-c94b91e7af56
DTSTART:20230206T160000Z
DTEND:20230206T170000Z
DESCRIPTION:FELs of Europe Tutorial on 6 February 2023 at 17:00 CET - Speak
 er: Christian Bressler (EuXFEL)
SUMMARY:6 February 2023\, FELs of Europe Tutorial "VLab. A new way to enter
  femtosecond XFEL experiments"\, online
URL;VALUE=URI:https://www.laserlab-europe.eu/events-1/conferences/conferenc
 e-calendar/6-february-2023-fels-of-europe-tutorial-vlab-a-new-way-to-enter
 -femtosecond-xfel-experiments-online
END:VEVENT
END:VCALENDAR
