BEGIN:VCALENDAR
VERSION:2.0
PRODID:icalendar-ruby
CALSCALE:GREGORIAN
BEGIN:VEVENT
DTSTAMP:20260421T090510Z
UID:07e35040-6650-4abc-8b6c-42b38ac06120
DTSTART:20250706T090000Z
DTEND:20250712T000000Z
SUMMARY:6-11 July 2025\, International Conference on Attosecond Science and
  Technology - ATTO X\, Lund\, Sweden
URL;VALUE=URI:https://www.laserlab-europe.eu/events/conferences/conference-
 calendar/6-11-july-2025-international-conference-on-attosecond-science-and
 -technology-atto-x-lund-sweden
END:VEVENT
END:VCALENDAR
