BEGIN:VCALENDAR
VERSION:2.0
PRODID:icalendar-ruby
CALSCALE:GREGORIAN
BEGIN:VEVENT
DTSTAMP:20260421T225708Z
UID:1eab5f5c-3e77-4393-b85c-3bdde4d4debb
DTSTART:20230806T090000Z
DTEND:20230812T000000Z
SUMMARY:6-11 August 2023\, Gordon Conference on "Quantum Control of Light a
 nd Matter" in Newport\, Rhode Island\, USA
URL;VALUE=URI:https://www.laserlab-europe.eu/events-1/conferences/conferenc
 e-calendar/6-11-august-2023-gordon-conference-on-quantum-control-of-light-
 and-matter-in-newport-rhode-island-usa
END:VEVENT
END:VCALENDAR
