BEGIN:VCALENDAR
VERSION:2.0
PRODID:icalendar-ruby
CALSCALE:GREGORIAN
BEGIN:VEVENT
DTSTAMP:20260422T193819Z
UID:24983a90-eed0-4458-8d44-1be9115d6c4b
DTSTART:20220606T090000Z
DTEND:20220611T000000Z
SUMMARY:6-10 June 2022\, Kudowa Summer School "Towards Fusion Energy"\, Kud
 owa-Zdrój\, Poland
URL;VALUE=URI:https://www.laserlab-europe.eu/events-1/conferences/conferenc
 e-calendar/6-10-june-2022-kudowa-summer-school-towards-fusion-energy-kudow
 a-zdroj-poland
END:VEVENT
END:VCALENDAR
