BEGIN:VCALENDAR
VERSION:2.0
PRODID:icalendar-ruby
CALSCALE:GREGORIAN
BEGIN:VEVENT
DTSTAMP:20260421T180000Z
UID:b1d5fa54-3ba1-4a13-9c09-9da12b3f3043
DTSTART:20220606T090000Z
DTEND:20220611T000000Z
SUMMARY:6-10 June 2022\, International Conference on Nanostructured Materia
 ls - NANO\, Seville\, Spain
URL;VALUE=URI:https://www.laserlab-europe.eu/events-1/conferences/conferenc
 e-calendar/6-10-june-2022-international-conference-on-nanostructured-mater
 ials-nano-seville-spain
END:VEVENT
END:VCALENDAR
