BEGIN:VCALENDAR
VERSION:2.0
PRODID:icalendar-ruby
CALSCALE:GREGORIAN
BEGIN:VEVENT
DTSTAMP:20260422T180236Z
UID:89ec63fc-7931-41eb-8a6a-e64e82d7e2d1
DTSTART:20230206T090000Z
DTEND:20230211T000000Z
SUMMARY:6-10 February 2023\, Winter School "Methods and processes of modern
  high-resolution X-ray spectroscopy"\, Stockholm\, Sweden
URL;VALUE=URI:https://www.laserlab-europe.eu/events-1/conferences/conferenc
 e-calendar/6-10-february-2023-winter-school-methods-and-processes-of-moder
 n-high-resolution-x-ray-spectroscopy-stockholm-sweden
END:VEVENT
END:VCALENDAR
