BEGIN:VCALENDAR
VERSION:2.0
PRODID:icalendar-ruby
CALSCALE:GREGORIAN
BEGIN:VEVENT
DTSTAMP:20260420T072441Z
UID:55069906-ac5b-4bed-99e3-0f045437d93e
DTSTART:20230605T090000Z
DTEND:20230606T000000Z
DESCRIPTION:17:00 CEST
SUMMARY:5 June 2023\, FOE Tutorial on Ultrafast magnetism - terra incognita
  beyond the conventional approximations\, online
URL;VALUE=URI:https://www.laserlab-europe.eu/events-1/conferences/conferenc
 e-calendar/5-june-2023-foe-tutorial-on-ultrafast-magnetism-terra-incognita
 -beyond-the-conventional-approximations-online
END:VEVENT
END:VCALENDAR
